BEGIN:VCALENDAR
PRODID:-//eluceo/ical//2.0/EN
VERSION:2.0
CALSCALE:GREGORIAN
BEGIN:VEVENT
UID:7b4cb670a686598556c57d6a41ed99fb
DTSTAMP:20260422T163223Z
SUMMARY:Klubbmöte måndag 12 jan 2026
DESCRIPTION:Talare: Lars-Olov Karlsson
URL:https://rodon.rotaryklubb.org/sv/agenda/show/216307
DTSTART;TZID=Europe/Zurich:20260112T190000
DTEND;TZID=Europe/Zurich:20260112T203000
LOCATION:Café Bönan\, Offerdalsv 11\, Ingång från baksidan\, 83522 Krok
 om\, Sverige
CATEGORIES:Rotary
END:VEVENT
BEGIN:VTIMEZONE
TZID:Europe/Zurich
BEGIN:STANDARD
DTSTART:20260112T190000
TZNAME:CET
TZOFFSETTO:+0100
TZOFFSETFROM:+0100
END:STANDARD
END:VTIMEZONE
END:VCALENDAR
