BEGIN:VCALENDAR
PRODID:-//eluceo/ical//2.0/EN
VERSION:2.0
CALSCALE:GREGORIAN
BEGIN:VEVENT
UID:85ae67981d50733abb3172cf849915ee
DTSTAMP:20260421T145341Z
SUMMARY:Per Byenfeldt om Frösöns historia
DESCRIPTION:Speaker(s): Per Byenfeldt\,
URL:https://rodon.rotaryklubb.org/en/agenda/show/216850
DTSTART;TZID=Europe/Zurich:20260126T190000
DTEND;TZID=Europe/Zurich:20260126T203000
LOCATION:Café Bönan\, Offerdalsv 11\, Ingång från baksidan\, 83522 Krok
 om\, Sverige
CATEGORIES:Rotary
END:VEVENT
BEGIN:VTIMEZONE
TZID:Europe/Zurich
BEGIN:STANDARD
DTSTART:20260126T190000
TZNAME:CET
TZOFFSETTO:+0100
TZOFFSETFROM:+0100
END:STANDARD
END:VTIMEZONE
END:VCALENDAR
