BEGIN:VCALENDAR
PRODID:-//eluceo/ical//2.0/EN
VERSION:2.0
CALSCALE:GREGORIAN
BEGIN:VEVENT
UID:06db24403c3cabef9d4a011fee9e0301
DTSTAMP:20260421T102427Z
SUMMARY:Mika Reunanen\, Engelska skolan
DESCRIPTION:Speaker(s): Mika Reunanen Engelska skolan
URL:https://rodon.rotaryklubb.org/en/agenda/show/216841
DTSTART;TZID=Europe/Zurich:20260216T190000
DTEND;TZID=Europe/Zurich:20260216T203000
LOCATION:Café Bönan\, Offerdalsv 11\, Ingång från baksidan\, 83522 Krok
 om\, Sverige
CATEGORIES:Rotary
END:VEVENT
BEGIN:VTIMEZONE
TZID:Europe/Zurich
BEGIN:STANDARD
DTSTART:20260216T190000
TZNAME:CET
TZOFFSETTO:+0100
TZOFFSETFROM:+0100
END:STANDARD
END:VTIMEZONE
END:VCALENDAR
