BEGIN:VCALENDAR
PRODID:-//eluceo/ical//2.0/EN
VERSION:2.0
CALSCALE:GREGORIAN
BEGIN:VEVENT
UID:ef021f56affff1011376cb6e514e9b36
DTSTAMP:20260421T145038Z
SUMMARY:Klubbmöte måndag 19 januari
DESCRIPTION:Speaker(s): Lars-Olov Karlsson
URL:https://rodon.rotaryklubb.org/en/agenda/show/216787
DTSTART;TZID=Europe/Zurich:20260119T180000
DTEND;TZID=Europe/Zurich:20260119T180000
LOCATION:Curlinghallen Östersund
CATEGORIES:Rotary
END:VEVENT
BEGIN:VTIMEZONE
TZID:Europe/Zurich
BEGIN:STANDARD
DTSTART:20260119T180000
TZNAME:CET
TZOFFSETTO:+0100
TZOFFSETFROM:+0100
END:STANDARD
END:VTIMEZONE
END:VCALENDAR
