BEGIN:VCALENDAR
PRODID:-//eluceo/ical//2.0/EN
VERSION:2.0
CALSCALE:GREGORIAN
BEGIN:VEVENT
UID:ec39345b37d01fc87671116b5e7b8a0d
DTSTAMP:20260421T151056Z
SUMMARY:Gunnar Bergström: AI:2
DESCRIPTION:Speaker(s): Gunnar Bergström: AI:2
URL:https://rodon.rotaryklubb.org/en/agenda/show/215869
DTSTART;TZID=Europe/Zurich:20251201T190000
DTEND;TZID=Europe/Zurich:20251201T203000
LOCATION:Café Bönan\, Offerdalsv 11\, Ingång från baksidan\, 83522 Krok
 om\, Sverige
CATEGORIES:Rotary
END:VEVENT
BEGIN:VTIMEZONE
TZID:Europe/Zurich
BEGIN:STANDARD
DTSTART:20251201T190000
TZNAME:CET
TZOFFSETTO:+0100
TZOFFSETFROM:+0100
END:STANDARD
END:VTIMEZONE
END:VCALENDAR
